BEGIN:VCALENDAR
VERSION:2.0
PRODID:-//ChamberMaster//Event Calendar 2.0//EN
METHOD:PUBLISH
X-PUBLISHED-TTL:P3D
REFRESH-INTERVAL:P3D
CALSCALE:GREGORIAN
BEGIN:VEVENT
DTSTART:20180620T113000Z
DTEND:20180620T123000Z
X-MICROSOFT-CDO-ALLDAYEVENT:FALSE
SUMMARY:Eye Opener Breakfast 6/20/2018
DESCRIPTION:Come Join Us For Our Eye Opener Breakfast!\n\nSponsored by Stoudt Advisors!
X-ALT-DESC;FMTTYPE=text/html:<strong>Come Join Us For Our Eye Opener Breakfast!<br />\nSponsored by Stoudt Advisors!</strong>
LOCATION:Dutch Country Restaurant 946 Baltimore St. Hanover\, PA 17331
UID:e.1500.3021
SEQUENCE:3
DTSTAMP:20260420T200247Z
URL:https://business.mainstreethanover.org/events/details/eye-opener-breakfast-6-20-2018-3021
END:VEVENT

END:VCALENDAR
