BEGIN:VCALENDAR
VERSION:2.0
PRODID:-//ChamberMaster//Event Calendar 2.0//EN
METHOD:PUBLISH
X-PUBLISHED-TTL:P3D
REFRESH-INTERVAL:P3D
CALSCALE:GREGORIAN
BEGIN:VEVENT
DTSTART:20180718T113000Z
DTEND:20180718T123000Z
X-MICROSOFT-CDO-ALLDAYEVENT:FALSE
SUMMARY:Eye Opener Breakfast 7/18/2018
DESCRIPTION:Come Join Us For Our Eye Opener Breakfast!\n\nSponsored by UPMC Pinnacle Hanover
X-ALT-DESC;FMTTYPE=text/html:<strong>Come Join Us For Our Eye Opener Breakfast!<br />\nSponsored by UPMC Pinnacle Hanover</strong>
LOCATION:Bay City Restaurant 110 Eisenhower Drive Hanover\, PA 17331
UID:e.1500.3022
SEQUENCE:3
DTSTAMP:20260420T200246Z
URL:https://business.mainstreethanover.org/events/details/eye-opener-breakfast-7-18-2018-3022
END:VEVENT

END:VCALENDAR
