BEGIN:VCALENDAR
VERSION:2.0
PRODID:-//ChamberMaster//Event Calendar 2.0//EN
METHOD:PUBLISH
X-PUBLISHED-TTL:P3D
REFRESH-INTERVAL:P3D
CALSCALE:GREGORIAN
BEGIN:VEVENT
DTSTART:20180815T113000Z
DTEND:20180815T123000Z
X-MICROSOFT-CDO-ALLDAYEVENT:FALSE
SUMMARY:Eye Opener Breakfast 8/15/2018
DESCRIPTION:Come Join Us For Our Eye Opener Breakfast!\n\nSponsored by
X-ALT-DESC;FMTTYPE=text/html:<strong>Come Join Us For Our Eye Opener Breakfast!<br />\nSponsored by&nbsp\;</strong>
LOCATION:Dutch Country Restaurant 946 Baltimore St. Hanover\, PA 17331
UID:e.1500.3023
SEQUENCE:3
DTSTAMP:20260420T181046Z
URL:https://business.mainstreethanover.org/events/details/eye-opener-breakfast-8-15-2018-3023
END:VEVENT

END:VCALENDAR
