BEGIN:VCALENDAR
VERSION:2.0
PRODID:-//ChamberMaster//Event Calendar 2.0//EN
METHOD:PUBLISH
X-PUBLISHED-TTL:P3D
REFRESH-INTERVAL:P3D
CALSCALE:GREGORIAN
BEGIN:VEVENT
DTSTART:20180919T113000Z
DTEND:20180919T123000Z
X-MICROSOFT-CDO-ALLDAYEVENT:FALSE
SUMMARY:Eye Opener Breakfast 9/19/2018
DESCRIPTION:Come Join Us For Our Eye Opener Breakfast!\n\nSponsored by APPI Energy!
X-ALT-DESC;FMTTYPE=text/html:<strong>Come Join Us For Our Eye Opener Breakfast!<br />\nSponsored by APPI Energy!</strong>
LOCATION:Bay City Restaurant 110 Eisenhower Drive Hanover\, PA 17331
UID:e.1500.4265
SEQUENCE:3
DTSTAMP:20260420T164341Z
URL:https://business.mainstreethanover.org/events/details/eye-opener-breakfast-9-19-2018-4265
END:VEVENT

END:VCALENDAR
