BEGIN:VCALENDAR
VERSION:2.0
PRODID:-//ChamberMaster//Event Calendar 2.0//EN
METHOD:PUBLISH
X-PUBLISHED-TTL:P3D
REFRESH-INTERVAL:P3D
CALSCALE:GREGORIAN
BEGIN:VEVENT
DTSTART:20170906T160000Z
DTEND:20170906T180000Z
X-MICROSOFT-CDO-ALLDAYEVENT:FALSE
SUMMARY:Facebook Live Q&A: Future Planning for Your Special Needs Child
DESCRIPTION:As the parent of a special needs child\, it's crucial for you to get a jump-start on planning for your child's future.\n\n\n\nFrom special needs trusts to guardianships\, it's never too early to start exploring your options and devising a plan that works best for your family.\n\n\n\nThat's where Estate Attorney Mac Brillhart comes in.\n\n\n\nHe's got plenty of experience helping special needs families and he's ready to help you\, too!\n\n\n\nTune in to our Facebook Live Q&A session on September 6 from 12:00   2:00 p.m. to learn more about the planning process and get answers to all of your questions IN REAL TIME!\n\n\n\nWant to submit a question in advance?  Send it to enk@stockandleader.com
X-ALT-DESC;FMTTYPE=text/html:As the parent of a special needs child\, it&rsquo\;s crucial for you to get a jump-start on planning for your child&rsquo\;s future.<br />\n<br />\nFrom special needs trusts to guardianships\, it&rsquo\;s never too early to start exploring your options and devising a plan that works best for your family.<br />\n<br />\nThat&rsquo\;s where <a href="http://www.stockandleader.com/attorney/macgregor-j-brillhart">Estate Attorney Mac Brillhart </a>comes in.<br />\n<br />\nHe&rsquo\;s got plenty of experience helping special needs families and he&rsquo\;s ready to help you\, too!<br />\n<br />\nTune in to our Facebook Live Q&amp\;A session on September 6 from 12:00 &ndash\; 2:00 p.m. to learn more about the planning process and get answers to all of your questions IN REAL TIME!<br />\n<br />\nWant to submit a question in advance? &nbsp\;Send it to <a href="mailto:enk@stockandleader.com?subject=Facebook%20Live%20Q%26A%20-%20Special%20Needs">enk@stockandleader.com</a>
LOCATION:Online event
UID:e.1500.3002
SEQUENCE:3
DTSTAMP:20260421T122639Z
URL:https://business.mainstreethanover.org/events/details/facebook-live-q-a-future-planning-for-your-special-needs-child-3002
END:VEVENT

END:VCALENDAR
