BEGIN:VCALENDAR
VERSION:2.0
PRODID:-//ChamberMaster//Event Calendar 2.0//EN
METHOD:PUBLISH
X-PUBLISHED-TTL:P3D
REFRESH-INTERVAL:P3D
CALSCALE:GREGORIAN
BEGIN:VEVENT
DTSTART:20170814T130000Z
DTEND:20170814T150000Z
X-MICROSOFT-CDO-ALLDAYEVENT:FALSE
SUMMARY:Facebook Live Q&A: Moving In Together Before Tying the Knot
DESCRIPTION:Let's face it\, times have changed\, and these days\, couples aren't waiting to tie the knot before they buy their first home.\n\n\n\nBut what happens to the property if the relationship gets cut short?\n\n\n\nStock and Leader Real Estate Attorney Jody Leighty has seen this type of situation play out before\, which is why she's ready to answer your questions IN REAL TIME during our Facebook Live Q&A session.\n\nTune in on our Facebook page on August 14 from 9:00   11:00 a.m.\n\nSubmit questions in advance to enk@stockandleader.com.
X-ALT-DESC;FMTTYPE=text/html:<p>Let&rsquo\;s face it\, times have changed\, and these days\, couples aren&rsquo\;t waiting to tie the knot before they buy their first home.<br />\n<br />\nBut what happens to the property if the relationship gets cut short?<br />\n<br />\n<a href="http://www.stockandleader.com/">Stock and Leader</a> Real Estate&nbsp\;<a href="http://www.stockandleader.com/attorney/jody-anderson-leighty" rel="noreferrer noopener nofollow noopener noreferrer nofollow" style="box-sizing: border-box\; margin: 0px\; padding: 0px\; background-color: transparent\; text-decoration-line: none\; line-height: inherit\; transition: all 350ms ease\; backface-visibility: hidden\; transform: translateZ(0px) scale(1\, 1)\; border-bottom: 1px dotted rgb(27\, 87\, 50)\;" target="_blank">Attorney Jody Leighty</a>&nbsp\;has seen this type of situation play out before\, which is why she&rsquo\;s ready to answer your questions IN REAL TIME during our Facebook Live Q&amp\;A session.</p>\n\n<p><a href="https://www.facebook.com/StockandLeader/">Tune in on our Facebook page</a> on August 14 from 9:00 &ndash\; 11:00 a.m.</p>\n\n<p>Submit questions in advance to <a href="mailto:enk@stockandleader.com?subject=Question%20for%20FB%20Live%20Q%26A%20-%20August%2014">enk@stockandleader.com</a>.</p>\n
LOCATION:
UID:e.1500.2999
SEQUENCE:3
DTSTAMP:20260421T122923Z
URL:https://business.mainstreethanover.org/events/details/facebook-live-q-a-moving-in-together-before-tying-the-knot-2999
END:VEVENT

END:VCALENDAR
