BEGIN:VCALENDAR
VERSION:2.0
PRODID:-//ChamberMaster//Event Calendar 2.0//EN
METHOD:PUBLISH
X-PUBLISHED-TTL:P3D
REFRESH-INTERVAL:P3D
CALSCALE:GREGORIAN
BEGIN:VEVENT
DTSTART:20180325T210000Z
DTEND:20180325T220000Z
X-MICROSOFT-CDO-ALLDAYEVENT:FALSE
SUMMARY:Facebook Live Q&A: Planning for the Future of Your Special Needs Child
DESCRIPTION:As the parent of a special needs child\, it's crucial for you to get a jump-start on planning for your child's future.\n\nFrom special needs trusts to guardianships\, it's never too early to start exploring your options and devising a plan that works best for your family.\n\n\n\nThat's where Estate Attorney Mac Brillhart comes in.\n\n\n\nHe's got plenty of experience helping special needs families and he's ready to help you\, too!\n\n\n\nTune in to our Facebook Live Q&A session on March 25 from 5:00 - 6:00 p.m. to learn more about the planning process and get answers to all of your questions IN REAL TIME!\n\n\n\nWant to submit a question in advance? Send to enk@stockandleader.com with subject line "Special Needs Q&A".
X-ALT-DESC;FMTTYPE=text/html:As the parent of a special needs child\, it&#39\;s crucial for you to get a jump-start on planning for your child&#39\;s future.<br />\nFrom special needs trusts to guardianships\, it&#39\;s never too early to start exploring your options and devising a plan that works best for your family.<br />\n<br />\nThat&#39\;s where Estate&nbsp\;<a href="https://www.stockandleader.com/attorney/macgregor-j-brillhart" rel="noopener noreferrer nofollow" style="color:rgb(2\, 120\, 184)\;text-decoration-line:none\;padding-top:0px\;" target="_blank">Attorney Mac Brillhart</a>&nbsp\;comes in.<br />\n<br />\nHe&#39\;s got plenty of experience helping special needs families and he&#39\;s ready to help you\, too!<br />\n<br />\nTune in to our Facebook Live Q&amp\;A session on March 25 from 5:00 - 6:00 p.m. to learn more about the planning process and get answers to all of your questions IN REAL TIME!<br />\n<br />\nWant to submit a question in advance? Send to&nbsp\;<a href="mailto:enk@stockandleader.com" rel="noopener noreferrer nofollow" style="color:rgb(2\, 120\, 184)\;text-decoration-line:none\;padding-top:0px\;" target="_blank">enk@stockandleader.com</a>&nbsp\;with subject line &quot\;Special Needs Q&amp\;A&quot\;.
LOCATION:Online event
UID:e.1500.4171
SEQUENCE:3
DTSTAMP:20260421T013540Z
URL:https://business.mainstreethanover.org/events/details/facebook-live-q-a-planning-for-the-future-of-your-special-needs-child-4171
END:VEVENT

END:VCALENDAR
