BEGIN:VCALENDAR
VERSION:2.0
PRODID:-//ChamberMaster//Event Calendar 2.0//EN
METHOD:PUBLISH
X-PUBLISHED-TTL:P3D
REFRESH-INTERVAL:P3D
CALSCALE:GREGORIAN
BEGIN:VEVENT
DTSTART:20180928T150000Z
DTEND:20180928T160000Z
X-MICROSOFT-CDO-ALLDAYEVENT:FALSE
SUMMARY:Facebook Live Q&A: Planning for the Future When You're Single and Childless
DESCRIPTION:Let's face it\, drafting a Will\, nominating someone to handle your healthcare decisions\, and designating where and to whom your assets pass can be intimidating.  However\, if you're one of a growing number of adults who is both unmarried and without children\, it can seem even more daunting.\n\nThat's where Attorney Mac Brillhart comes in.\n\nAs an estate planning attorney counseling clients of all ages\, marital statuses and family structures\, he's well-equipped to answer all of your future planning questions.\n\nTune in to our Facebook Live Q&A session on September 28 from 11:00 a.m.   12:00 p.m. to learn more about the planning process and get answers to all of your questions IN REAL TIME!\n\nWant to submit a question in advance? Please send to enk@stockandleader.com with subject line "Future Planning Q&A".
X-ALT-DESC;FMTTYPE=text/html:<p>Let&rsquo\;s face it\, drafting a Will\, nominating someone to handle your healthcare decisions\, and designating where and to whom your assets pass can be intimidating.&nbsp\; However\, if you&rsquo\;re one of a growing number of adults who is both unmarried and without children\, it can seem even more daunting.</p>\n\n<p>That&rsquo\;s where&nbsp\;<a href="https://www.stockandleader.com/attorney/macgregor-j-brillhart" style="box-sizing: border-box\; margin: 0px\; padding: 0px\; background-color: transparent\; text-decoration-line: none\; line-height: inherit\; transition: all 350ms ease 0s\; backface-visibility: hidden\; transform: translateZ(0px) scale(1\, 1)\; border-bottom: 1px dotted rgb(27\, 87\, 50)\;">Attorney Mac Brillhart</a>&nbsp\;comes in.</p>\n\n<p>As an estate planning attorney counseling clients of all ages\, marital statuses and family structures\, he&rsquo\;s well-equipped to answer all of your future planning questions.</p>\n\n<p>Tune in to our&nbsp\;<a href="https://www.facebook.com/StockandLeader/" style="box-sizing: border-box\; margin: 0px\; padding: 0px\; background-color: transparent\; text-decoration-line: none\; line-height: inherit\; transition: all 350ms ease 0s\; backface-visibility: hidden\; transform: translateZ(0px) scale(1\, 1)\; border-bottom: 1px dotted rgb(27\, 87\, 50)\;">Facebook</a>&nbsp\;Live Q&amp\;A session on September 28 from 11:00 a.m. &ndash\; 12:00 p.m. to learn more about the planning process and get answers to all of your questions IN REAL TIME!</p>\n\n<p>Want to submit a question in advance? Please send to&nbsp\;<a href="mailto:enk@stockandleader.com" style="box-sizing: border-box\; margin: 0px\; padding: 0px\; background-color: transparent\; text-decoration-line: none\; line-height: inherit\; transition: all 350ms ease 0s\; backface-visibility: hidden\; transform: translateZ(0px) scale(1\, 1)\; border-bottom: 1px dotted rgb(27\, 87\, 50)\;">enk@stockandleader.com</a>&nbsp\;with subject line &ldquo\;Future Planning Q&amp\;A&rdquo\;.</p>\n
LOCATION:Online event
UID:e.1500.4316
SEQUENCE:3
DTSTAMP:20260420T151047Z
URL:https://business.mainstreethanover.org/events/details/facebook-live-q-a-planning-for-the-future-when-you-re-single-and-childless-09-28-2018-4316
END:VEVENT

END:VCALENDAR
