BEGIN:VCALENDAR
VERSION:2.0
PRODID:-//ChamberMaster//Event Calendar 2.0//EN
METHOD:PUBLISH
X-PUBLISHED-TTL:P3D
REFRESH-INTERVAL:P3D
CALSCALE:GREGORIAN
BEGIN:VEVENT
DTSTART:20160925T170000Z
DTEND:20160925T210000Z
X-MICROSOFT-CDO-ALLDAYEVENT:FALSE
SUMMARY:Fall Feast: Spring Grove Area Scholarship Fund
DESCRIPTION:Join the Spring Grove Area Scholarship Fund for food\, music\, lawn games and more at the 2016 Fall Feast on Sunday\, September 25 at Elicker's Grove from 1-5 p.m. \n\n\n\nAll-you-can-eat catered by Big Mike's Seafood\, including oysters\, shrimp\, pit beef and pork\, and more. Keg beer\, soda and water is included in ticket price\; BYOB. \n\n\n\nMusic and entertainment by the Mason Dixon Line Band. \n\n\n\nEnter the cornhole tournament for a chance to win a cash prize. Raffle items including handmade SG cornhole boards and more. 50/50 drawing and jar tickets. \n\n\n\n*This event is 21+. DD tickets are available for a discounted price\, and will include all-you-can-eat food (no alcohol).
X-ALT-DESC;FMTTYPE=text/html:<span style="color: rgb(75\, 79\, 86)\; font-family: helvetica\, arial\, sans-serif\; font-size: 14px\; line-height: 18.76px\;">Join the Spring Grove Area Scholarship Fund for food\, music\, lawn games and more at the 2016 Fall Feast on Sunday\, September 25 at Elicker&#39\;s Grove from 1-5 p.m.&nbsp\;</span><br style="color: rgb(75\, 79\, 86)\; font-family: helvetica\, arial\, sans-serif\; font-size: 14px\; line-height: 18.76px\;" />\n<br style="color: rgb(75\, 79\, 86)\; font-family: helvetica\, arial\, sans-serif\; font-size: 14px\; line-height: 18.76px\;" />\n<span style="color: rgb(75\, 79\, 86)\; font-family: helvetica\, arial\, sans-serif\; font-size: 14px\; line-height: 18.76px\;">All-you-can-eat catered by Big Mike&#39\;s Seafood\, including oysters\, shrimp\, pit beef and pork\, and more. Keg beer\, soda and water is included in ticket price\; BYOB.&nbsp\;</span><br style="color: rgb(75\, 79\, 86)\; font-family: helvetica\, arial\, sans-serif\; font-size: 14px\; line-height: 18.76px\;" />\n<br style="color: rgb(75\, 79\, 86)\; font-family: helvetica\, arial\, sans-serif\; font-size: 14px\; line-height: 18.76px\;" />\n<span style="color: rgb(75\, 79\, 86)\; font-family: helvetica\, arial\, sans-serif\; font-size: 14px\; line-height: 18.76px\;">Music and entertainment by the Mason Dixon Line Band.&nbsp\;</span><br style="color: rgb(75\, 79\, 86)\; font-family: helvetica\, arial\, sans-serif\; font-size: 14px\; line-height: 18.76px\;" />\n<br style="color: rgb(75\, 79\, 86)\; font-family: helvetica\, arial\, sans-serif\; font-size: 14px\; line-height: 18.76px\;" />\n<span style="color: rgb(75\, 79\, 86)\; font-family: helvetica\, arial\, sans-serif\; font-size: 14px\; line-height: 18.76px\;">Enter the cornhole tournament for a chance to win a cash prize. Raffle items including handmade SG cornhole boards and more. 50/50 drawing and jar tickets.&nbsp\;</span><br style="color: rgb(75\, 79\, 86)\; font-family: helvetica\, arial\, sans-serif\; font-size: 14px\; line-height: 18.76px\;" />\n<br style="color: rgb(75\, 79\, 86)\; font-family: helvetica\, arial\, sans-serif\; font-size: 14px\; line-height: 18.76px\;" />\n<span style="color: rgb(75\, 79\, 86)\; font-family: helvetica\, arial\, sans-serif\; font-size: 14px\; line-height: 18.76px\;">*This event is 21+. DD tickets are available for a discounted price\, and will include all-you-can-eat food (no alcohol).</span>
LOCATION:Elicker's Grove Park Spring Grove\, PA
UID:e.1500.1238
SEQUENCE:3
DTSTAMP:20260422T053116Z
URL:https://business.mainstreethanover.org/events/details/fall-feast-spring-grove-area-scholarship-fund-1238
END:VEVENT

END:VCALENDAR
