BEGIN:VCALENDAR
VERSION:2.0
PRODID:-//ChamberMaster//Event Calendar 2.0//EN
METHOD:PUBLISH
X-PUBLISHED-TTL:P3D
REFRESH-INTERVAL:P3D
CALSCALE:GREGORIAN
BEGIN:VEVENT
DTSTART;VALUE=DATE:20150215
DTEND;VALUE=DATE:20150216
TRANSP:TRANSPARENT
X-MICROSOFT-CDO-ALLDAYEVENT:TRUE
SUMMARY:Fantastic Frozen Party
DESCRIPTION:The Disney movie "Frozen" is coming to the AACA Museum!\n\nChoose from one of two sessions: 3-5:30 PM OR  6-8:30 PM\n\nFestivities will take place on the lower level gallery of the AACA Museum with the highlight being the Sing-A-Long version of "Frozen"!  You can also look forward to appearances by Elsa\, fun snacks including pizza\, hot dogs\, cookies and beverages.We encourage you to come dressed as your favorite Frozen character\, and feel free to bring pillows or sleeping bags to enjoy the movie   chairs will also be available.\n\n \n\nPricing: $15 Adults / $10 children 4-12 / Children 3 & under are FREE\n\nAdvanced ticket purchase required
X-ALT-DESC;FMTTYPE=text/html:<p class="MsoNormal" style="margin-bottom: 0.0001pt\; line-height: 18pt\; vertical-align: baseline\; background-image: initial\; background-attachment: initial\; background-size: initial\; background-origin: initial\; background-clip: initial\; background-position: initial\; background-repeat: initial\;"><span style="font-size:10.5pt\;\nfont-family:&quot\;Arial&quot\;\,sans-serif\;mso-fareast-font-family:&quot\;Times New Roman&quot\;\;\ncolor:#555555">The Disney movie &ldquo\;Frozen&rdquo\; is coming to the AACA Museum!<o:p></o:p></span></p>\n\n<p class="MsoNormal" style="margin-bottom: 0.0001pt\; line-height: 18pt\; vertical-align: baseline\; background-image: initial\; background-attachment: initial\; background-size: initial\; background-origin: initial\; background-clip: initial\; background-position: initial\; background-repeat: initial\;"><span style="font-size:10.5pt\;\nfont-family:&quot\;Arial&quot\;\,sans-serif\;mso-fareast-font-family:&quot\;Times New Roman&quot\;\;\ncolor:#555555">Choose from one of two sessions:&nbsp\;</span><b><span style="font-size:10.5pt\;font-family:&quot\;Arial&quot\;\,sans-serif\;mso-fareast-font-family:\n&quot\;Times New Roman&quot\;\;color:#1C1C1C\;border:none windowtext 1.0pt\;mso-border-alt:\nnone windowtext 0in\;padding:0in">3-5:30 PM OR&nbsp\;</span></b><span style="font-size:10.5pt\;font-family:&quot\;Arial&quot\;\,sans-serif\;mso-fareast-font-family:\n&quot\;Times New Roman&quot\;\;color:#555555">&nbsp\;</span><b><span style="font-size:10.5pt\;\nfont-family:&quot\;Arial&quot\;\,sans-serif\;mso-fareast-font-family:&quot\;Times New Roman&quot\;\;\ncolor:#1C1C1C\;border:none windowtext 1.0pt\;mso-border-alt:none windowtext 0in\;\npadding:0in">6-8:30 PM</span></b><span style="font-size:10.5pt\;font-family:\n&quot\;Arial&quot\;\,sans-serif\;mso-fareast-font-family:&quot\;Times New Roman&quot\;\;color:#555555"><o:p></o:p></span></p>\n\n<p class="MsoNormal" style="margin-bottom: 0.0001pt\; line-height: 18pt\; vertical-align: baseline\; background-image: initial\; background-attachment: initial\; background-size: initial\; background-origin: initial\; background-clip: initial\; background-position: initial\; background-repeat: initial\;"><span style="font-size:10.5pt\;\nfont-family:&quot\;Arial&quot\;\,sans-serif\;mso-fareast-font-family:&quot\;Times New Roman&quot\;\;\ncolor:#555555">Festivities will take place on the lower level gallery of the AACA Museum with the highlight being the&nbsp\;</span><b><span style="font-size:\n10.5pt\;font-family:&quot\;Arial&quot\;\,sans-serif\;mso-fareast-font-family:&quot\;Times New Roman&quot\;\;\ncolor:#1C1C1C\;border:none windowtext 1.0pt\;mso-border-alt:none windowtext 0in\;\npadding:0in">Sing-A-Long version of &ldquo\;Frozen&rdquo\;</span></b><span style="font-size:\n10.5pt\;font-family:&quot\;Arial&quot\;\,sans-serif\;mso-fareast-font-family:&quot\;Times New Roman&quot\;\;\ncolor:#555555">!&nbsp\;&nbsp\;You can also look forward to&nbsp\;</span><b><span style="font-size:10.5pt\;font-family:&quot\;Arial&quot\;\,sans-serif\;mso-fareast-font-family:\n&quot\;Times New Roman&quot\;\;color:#1C1C1C\;border:none windowtext 1.0pt\;mso-border-alt:\nnone windowtext 0in\;padding:0in">appearances by Elsa</span></b><span style="font-size:10.5pt\;font-family:&quot\;Arial&quot\;\,sans-serif\;mso-fareast-font-family:\n&quot\;Times New Roman&quot\;\;color:#555555">\,&nbsp\;fun snacks including pizza\, hot dogs\, cookies and beverages.We encourage you to come dressed&nbsp\;as your favorite Frozen character\, and feel free to bring pillows or sleeping bags to enjoy the movie &ndash\; chairs will also be available.<o:p></o:p></span></p>\n\n<p class="MsoNormal" style="margin-bottom: 0.0001pt\; line-height: 18pt\; vertical-align: baseline\; background-image: initial\; background-attachment: initial\; background-size: initial\; background-origin: initial\; background-clip: initial\; background-position: initial\; background-repeat: initial\;"><span style="font-size:10.5pt\;\nfont-family:&quot\;Arial&quot\;\,sans-serif\;mso-fareast-font-family:&quot\;Times New Roman&quot\;\;\ncolor:#555555"><o:p>&nbsp\;</o:p></span></p>\n\n<p class="MsoNormal" style="margin-bottom: 0.0001pt\; line-height: 18pt\; vertical-align: baseline\; background-image: initial\; background-attachment: initial\; background-size: initial\; background-origin: initial\; background-clip: initial\; background-position: initial\; background-repeat: initial\;"><span style="font-size:10.5pt\;\nfont-family:&quot\;Arial&quot\;\,sans-serif\;mso-fareast-font-family:&quot\;Times New Roman&quot\;\;\ncolor:#555555">Pricing: $15 Adults / $10 children 4-12 / Children 3 &amp\; under are FREE<o:p></o:p></span></p>\n\n<p class="MsoNormal" style="margin-bottom: 0.0001pt\; line-height: 18pt\; vertical-align: baseline\; background-image: initial\; background-attachment: initial\; background-size: initial\; background-origin: initial\; background-clip: initial\; background-position: initial\; background-repeat: initial\;"><span style="font-size:10.5pt\;\nfont-family:&quot\;Arial&quot\;\,sans-serif\;mso-fareast-font-family:&quot\;Times New Roman&quot\;\;\ncolor:#555555">Advanced ticket purchase required<o:p></o:p></span></p>\n
LOCATION:AACA Museum 161 Museum Drive Hershey\, Pa 17033
UID:e.1500.838
SEQUENCE:3
DTSTAMP:20260425T120620Z
URL:https://business.mainstreethanover.org/events/details/fantastic-frozen-party-02-15-2015-838
END:VEVENT

END:VCALENDAR
