BEGIN:VCALENDAR
VERSION:2.0
PRODID:-//ChamberMaster//Event Calendar 2.0//EN
METHOD:PUBLISH
X-PUBLISHED-TTL:P3D
REFRESH-INTERVAL:P3D
CALSCALE:GREGORIAN
BEGIN:VEVENT
DTSTART:20170520T140000Z
DTEND:20170520T180000Z
X-MICROSOFT-CDO-ALLDAYEVENT:FALSE
SUMMARY:Fill a Soldier's Boot with Loot
DESCRIPTION:We will be set up in the Chili's parking lot with our tent and tshirts etc for sale.  We will have volunteers up and down Eisenhower Dr all the way to Carlisle St. Collecting money in Military Boots for Homeless Veterans and Deployed troops.  Please donate what you can if you are out and about that way!
X-ALT-DESC;FMTTYPE=text/html:We will be set up in the Chili&#39\;s parking lot with our tent and tshirts etc for sale. &nbsp\;We will have volunteers up and down Eisenhower Dr all the way to Carlisle St. Collecting money in Military Boots for Homeless Veterans and Deployed troops. &nbsp\;Please donate what you can if you are out and about that way!&nbsp\;
LOCATION:Eisenhower Dr. Hanover\, PA 17331
UID:e.1500.2929
SEQUENCE:3
DTSTAMP:20260421T171536Z
URL:https://business.mainstreethanover.org/events/details/fill-a-soldier-s-boot-with-loot-2929
END:VEVENT

END:VCALENDAR
