BEGIN:VCALENDAR
VERSION:2.0
PRODID:-//ChamberMaster//Event Calendar 2.0//EN
METHOD:PUBLISH
X-PUBLISHED-TTL:P3D
REFRESH-INTERVAL:P3D
CALSCALE:GREGORIAN
BEGIN:VEVENT
DTSTART;VALUE=DATE:20181019
DTEND;VALUE=DATE:20181020
TRANSP:TRANSPARENT
X-MICROSOFT-CDO-ALLDAYEVENT:TRUE
SUMMARY:First Annual For the Love of a Veteran Golf Tournament
DESCRIPTION:$100 registration fee includes continental breakfast\, 18 holes of golf with carts\, lunch\, and prizes for the top teams and special contest winners. Also raffles and silent auction. Contact Christine at chris@fortheloveofaveteran.org or Albert at albert@fortheloveofaveteran.org with any questions you have. Please ask about becoming a sponsor. Rain or Shine.
X-ALT-DESC;FMTTYPE=text/html:<span style="background-color:rgb(255\, 255\, 255)\; color:rgb(102\, 106\, 115)\; font-family:benton sans\,helvetica neue\,helvetica\,roboto\,arial\,sans-serif\; font-size:15px">$100 registration fee includes continental breakfast\, 18 holes of golf with carts\, lunch\, and prizes for the top teams and special contest winners. Also raffles and silent auction. Contact Christine at chris@fortheloveofaveteran.org or Albert at albert@fortheloveofaveteran.org with any questions you have. Please ask about becoming a sponsor. Rain or Shine.</span>
LOCATION:The Links at Challedon 6166 Challedon Circle Mount Airy\, MD 21771
UID:e.1500.4194
SEQUENCE:3
DTSTAMP:20260420T151146Z
URL:https://business.mainstreethanover.org/events/details/first-annual-for-the-love-of-a-veteran-golf-tournament-4194
END:VEVENT

END:VCALENDAR
