BEGIN:VCALENDAR
VERSION:2.0
PRODID:-//ChamberMaster//Event Calendar 2.0//EN
METHOD:PUBLISH
X-PUBLISHED-TTL:P3D
REFRESH-INTERVAL:P3D
CALSCALE:GREGORIAN
BEGIN:VEVENT
DTSTART:20180914T130000Z
DTEND:20180914T160000Z
X-MICROSOFT-CDO-ALLDAYEVENT:FALSE
SUMMARY:First Step: Starting a Small Business
DESCRIPTION:This workshop is intened to provide aspiring small business owners with an overview of many of the issues invovled in planning and launching a new business venture. Topics include personal and lifestyle issues of the entrepreneur/business owner\, the legal\, financial and tax considerations of starting a small business\, and the "how-to's" of business registration\, government regulations and compliance issues. Attendees will also be introduced to teh steps of developing a sound business plan.
X-ALT-DESC;FMTTYPE=text/html:This workshop is intened to provide aspiring small business owners with an overview of many of the issues invovled in planning and launching a new business venture. Topics include personal and lifestyle issues of the entrepreneur/business owner\, the legal\, financial and tax considerations of starting a small business\, and the &quot\;how-to&#39\;s&quot\; of business registration\, government regulations and compliance issues. Attendees will also be introduced to teh steps of developing a sound business plan.
LOCATION:Chamberburg Area Chamber of Commerce 100 Lincoln Way E. Chambersburg\, PA 17201
UID:e.1500.4267
SEQUENCE:3
DTSTAMP:20260420T150240Z
URL:https://business.mainstreethanover.org/events/details/first-step-starting-a-small-business-4267
END:VEVENT

END:VCALENDAR
