BEGIN:VCALENDAR
VERSION:2.0
PRODID:-//ChamberMaster//Event Calendar 2.0//EN
METHOD:PUBLISH
X-PUBLISHED-TTL:P3D
REFRESH-INTERVAL:P3D
CALSCALE:GREGORIAN
BEGIN:VEVENT
DTSTART:20180223T150000Z
DTEND:20180223T220000Z
X-MICROSOFT-CDO-ALLDAYEVENT:FALSE
SUMMARY:For the Love of Artists Exhibit
DESCRIPTION:Stroll down memory lane during February at Art Downtown.\n\nThe gallery's February show\, "For the Love of Artists\," features art from deceased members of the Hanover Area Arts Guild as the organization celebrates its 50th anniversary.\n\nIt's a chance to look back at the progress of artists and look into the future\, said Jane West\, who leads the Gallery Committee for the Arts Guild. In preparation for the show\, Arts Guild members called patrons for art loans.\n\n\nThe result is an exhibit featuring 156 paintings\, prints\, photographs and pieces of other artwork representing 50 years of art.\n\nThe Arts Guild was formed in 1968 by a handful of artisans who began meeting at the YWCA.\n\nA reception is planned 1-3 p.m. Saturday\, Feb. 10\, to celebrate the exhibit. The reception at Art Downtown\, 32 Carlisle St.\, Hanover\, is part of Hanover Main Street's Second Saturday celebration. It is open to the public.\n\n\n\nThe exhibit continues through March 3. It can be seen during regular gallery hours   10 a.m.-5 p.m. Tuesday-Thursday\, 10 a.m.7 p.m. Friday and 10 a.m.-3 p.m. Saturday.
X-ALT-DESC;FMTTYPE=text/html:<p>Stroll down memory lane during February at Art Downtown.</p>\n\n<p>The gallery&rsquo\;s February show\, &ldquo\;For the Love of Artists\,&rdquo\; features art from deceased members of the Hanover Area Arts Guild as the organization celebrates its 50th anniversary.</p>\n\n<p>It&rsquo\;s a chance to look back at the progress of artists and look into the future\, said Jane West\, who leads the Gallery Committee for the Arts Guild. In preparation for the show\, Arts Guild members called patrons for art loans.</p>\n\n<div>\n<p>The result is an exhibit featuring 156 paintings\, prints\, photographs and pieces of other artwork representing 50 years of art.</p>\n\n<p>The Arts Guild was formed in 1968 by a handful of artisans who began meeting at the YWCA.</p>\n\n<p>A reception is planned 1-3 p.m. Saturday\, Feb. 10\, to celebrate the exhibit. The reception at Art Downtown\, 32 Carlisle St.\, Hanover\, is part of Hanover Main Street&rsquo\;s Second Saturday celebration. It is open to the public.<br />\n<br />\nThe exhibit continues through March 3. It can be seen during regular gallery hours &mdash\; 10 a.m.-5 p.m. Tuesday-Thursday\, 10 a.m.7 p.m. Friday and 10 a.m.-3 p.m. Saturday.</p>\n</div>\n
LOCATION:32 Carlisle St.\, Hanover\, just steps off the Square
UID:e.1500.4157
SEQUENCE:3
DTSTAMP:20260421T025804Z
URL:https://business.mainstreethanover.org/events/details/for-the-love-of-artists-exhibit-02-23-2018-4157
END:VEVENT

END:VCALENDAR
