BEGIN:VCALENDAR
VERSION:2.0
PRODID:-//ChamberMaster//Event Calendar 2.0//EN
METHOD:PUBLISH
X-PUBLISHED-TTL:P3D
REFRESH-INTERVAL:P3D
CALSCALE:GREGORIAN
BEGIN:VEVENT
DTSTART:20150814T200000Z
DTEND:20150814T230000Z
X-MICROSOFT-CDO-ALLDAYEVENT:FALSE
SUMMARY:Free Music Friday
DESCRIPTION:Celebrate the end of the week with FREE MUSIC FRIDAY at The Markets at Hanover featuring John Wesley. John plays everything from blues to classic rock and more. Grab your family and friends and join us from 4-7 pm.
X-ALT-DESC;FMTTYPE=text/html:Celebrate the end of the week with FREE MUSIC FRIDAY at The Markets at Hanover featuring John Wesley. John plays everything from blues to classic rock and more. Grab your family and friends and join us from 4-7 pm.
LOCATION:The Markets at Hanover 1649 Broadway Hanover\, PA
UID:e.1500.952
SEQUENCE:3
DTSTAMP:20260423T005143Z
URL:https://business.mainstreethanover.org/events/details/free-music-friday-08-14-2015-952
END:VEVENT

END:VCALENDAR
