BEGIN:VCALENDAR
VERSION:2.0
PRODID:-//ChamberMaster//Event Calendar 2.0//EN
METHOD:PUBLISH
X-PUBLISHED-TTL:P3D
REFRESH-INTERVAL:P3D
CALSCALE:GREGORIAN
BEGIN:VEVENT
DTSTART;VALUE=DATE:20171202
DTEND;VALUE=DATE:20171203
TRANSP:TRANSPARENT
X-MICROSOFT-CDO-ALLDAYEVENT:TRUE
SUMMARY:Gallery of Arts and Crafts
DESCRIPTION:Members of the Hanover Area Arts Guild showcase their fine arts and crafts\, perfect for your holiday giving. Ornaments\, scarves and hats\, small pieces of art and unique item   all made by local artisans   can be found at Art Downtown\, 32 Carlisle St.\n\n \n\nThe exhibit continues through the end of December. It can be seen during regular gallery hours: 10 a.m.-5 p.m. Tuesday-Thursday\, 10 a.m.-7 p.m. Friday and 10 a.m.-3 p.m. Saturday.\n\n\n\nConnect with at 717-632-2521\, info@hanoverareaarts.com or on Facebook: https://www.facebook.com/HanoverAreaArt/
X-ALT-DESC;FMTTYPE=text/html:Members of the Hanover Area Arts Guild showcase their fine arts and crafts\, perfect for your holiday giving. Ornaments\, scarves and hats\, small pieces of art and unique item &mdash\; all made by local artisans &mdash\; can be found at Art Downtown\, 32 Carlisle St.<br />\n&nbsp\;<br />\nThe exhibit continues through the end of December. It can be seen during regular gallery hours: 10 a.m.-5 p.m. Tuesday-Thursday\, 10 a.m.-7 p.m. Friday and 10 a.m.-3 p.m. Saturday.<br />\n<br />\nConnect with at 717-632-2521\, info@hanoverareaarts.com or on Facebook:&nbsp\;https://www.facebook.com/HanoverAreaArt/<br />\n&nbsp\;
LOCATION:32 Carlisle St.\, Hanover
UID:e.1500.3109
SEQUENCE:3
DTSTAMP:20260421T060033Z
URL:https://business.mainstreethanover.org/events/details/gallery-of-arts-and-crafts-12-02-2017-3109
END:VEVENT

END:VCALENDAR
