BEGIN:VCALENDAR
VERSION:2.0
PRODID:-//ChamberMaster//Event Calendar 2.0//EN
METHOD:PUBLISH
X-PUBLISHED-TTL:P3D
REFRESH-INTERVAL:P3D
CALSCALE:GREGORIAN
BEGIN:VEVENT
DTSTART;VALUE=DATE:20180504
DTEND;VALUE=DATE:20180505
TRANSP:TRANSPARENT
X-MICROSOFT-CDO-ALLDAYEVENT:TRUE
SUMMARY:Give Local York
DESCRIPTION:"Give Local York" campaign is an online giving event. York County will be transformed into a community-wide celebration of generosity that benefits hundreds of local nonprofit organizations serving York County.
X-ALT-DESC;FMTTYPE=text/html:&quot\;Give Local York&quot\; campaign is an online giving event. York County will be transformed into a community-wide celebration of generosity that benefits hundreds of local nonprofit organizations serving York County.
LOCATION:Every dollar donated at www.givelocalyork.org will raise essential funds for the work of the local nonprofits.
UID:e.1500.4216
SEQUENCE:3
DTSTAMP:20260420T215214Z
URL:https://business.mainstreethanover.org/events/details/give-local-york-4216
END:VEVENT

END:VCALENDAR
