BEGIN:VCALENDAR
VERSION:2.0
PRODID:-//ChamberMaster//Event Calendar 2.0//EN
METHOD:PUBLISH
X-PUBLISHED-TTL:P3D
REFRESH-INTERVAL:P3D
CALSCALE:GREGORIAN
BEGIN:VEVENT
DTSTART;VALUE=DATE:20181127
DTEND;VALUE=DATE:20181128
TRANSP:TRANSPARENT
X-MICROSOFT-CDO-ALLDAYEVENT:TRUE
SUMMARY:#GivingTuesday
DESCRIPTION:On November 27th\, join the national day of generosity\, #GivingTuesday. This year\, Alleghenies United Cerebral Palsy is raising monies towards their first-ever scholarship fund! With your help\, they can raise funds for a scholarship that will be awarded to a Southwestern HIgh School graduating senior pursuing a college degree in the field of human services. They will award the scholarship through Southwestern School District's Dollars For Scholars Program. \n\n\n\nHow can you #BetheFuture? Here are a few ideas:\n\n	Consider making a gift on #GivingTuesday directly on our Classy page: https://www.classy.org/give/202081/#!/donation/checkout \n	Help us get the word out on social media\, using our name and the hashtag's #BetheFuture & #GivingTuesday\n\n\nFor more information and/or to donate please contact Kristin Jacobs at kjacobs@scalucp.org or call 814-619-3398 ext. 1507.
X-ALT-DESC;FMTTYPE=text/html:On November 27th\, join the national day of generosity\, <u><span style="color:#1155CC\;"><a href="https://www.givingtuesday.org/"><span style="color:#1155CC\;">#GivingTuesday</span></a></span></u>. This year\, Alleghenies United Cerebral Palsy is raising monies towards their first-ever scholarship fund! With your help\, they can raise funds for a scholarship that will be awarded to a Southwestern HIgh School graduating senior pursuing a college degree in the field of human services. They will award the scholarship through Southwestern School District&rsquo\;s Dollars For Scholars Program.&nbsp\;<br />\n<br />\nHow can you <u><span style="color:#1155CC\;"><a href="https://scalucp.org/donate/scholarshipfund/"><span style="color:#1155CC\;">#BetheFuture</span></a></span></u>? Here are a few ideas:\n<ul>\n	<li style="margin-top:0in\;margin-right:0in\;margin-bottom:10.0pt\;">Consider making a gift on #GivingTuesday directly on our Classy page: <u><span style="color:#1155CC\;"><a href="https://www.classy.org/give/202081/#!/donation/checkout"><span style="color:#1155CC\;">https://www.classy.org/give/202081/#!/donation/checkout </span></a></span></u></li>\n	<li style="margin-top:0in\;margin-right:0in\;margin-bottom:10.0pt\;">Help us get the word out on social media\, using our name and the hashtag&rsquo\;s <u><span style="color:#1155CC\;"><a href="https://twitter.com/"><span style="color:#1155CC\;">#BetheFuture &amp\; #GivingTuesday</span></a></span></u></li>\n</ul>\n\n<div style="margin-top:0in\;margin-right:0in\;margin-bottom:10.0pt\;">For more information and/or to donate please contact Kristin Jacobs at <u><span style="color:#1155CC\;"><a href="mailto:kjacobs@scalucp.org"><span style="color:#1155CC\;">kjacobs@scalucp.org</span></a></span></u> or call&nbsp\;814-619-3398 ext. 1507.<br />\n&nbsp\;</div>\n
LOCATION:
UID:e.1500.4332
SEQUENCE:3
DTSTAMP:20260420T114752Z
URL:https://business.mainstreethanover.org/events/details/givingtuesday-4332
END:VEVENT

END:VCALENDAR
