BEGIN:VCALENDAR
VERSION:2.0
PRODID:-//ChamberMaster//Event Calendar 2.0//EN
METHOD:PUBLISH
X-PUBLISHED-TTL:P3D
REFRESH-INTERVAL:P3D
CALSCALE:GREGORIAN
BEGIN:VEVENT
DTSTART:20151025T160000Z
DTEND:20151025T200000Z
X-MICROSOFT-CDO-ALLDAYEVENT:FALSE
SUMMARY:GoGolden Visions Adult Services- Cash Bingo
DESCRIPTION:$15.00 for 6 paper cards- Extra cards are 3 for $3.00\n\n\n\nDoors Open at Noon\n\nBingo Starts at 2 PM
X-ALT-DESC;FMTTYPE=text/html:$15.00 for 6 paper cards- Extra cards are 3 for $3.00<br />\n<br />\nDoors Open at Noon<br />\nBingo Starts at 2 PM
LOCATION:Golden Visions Adult Day Services 250 Fame Ave\, Suite 125
UID:e.1500.1008
SEQUENCE:3
DTSTAMP:20260422T220416Z
URL:https://business.mainstreethanover.org/events/details/gogolden-visions-adult-services-cash-bingo-10-25-2015-1008
END:VEVENT

END:VCALENDAR
