BEGIN:VCALENDAR
VERSION:2.0
PRODID:-//ChamberMaster//Event Calendar 2.0//EN
METHOD:PUBLISH
X-PUBLISHED-TTL:P3D
REFRESH-INTERVAL:P3D
CALSCALE:GREGORIAN
BEGIN:VEVENT
DTSTART:20151025T170000Z
DTEND:20151025T190000Z
X-MICROSOFT-CDO-ALLDAYEVENT:FALSE
SUMMARY:Gourmet Pizza on the Terrace at Adams County Winery
DESCRIPTION:Gourmet Pizza on the Terrace * Chef Fabio Carella* Live Music * Enjoy an afternoon of fall colors\, a bonfire\, tours\, amazing wines and artisan pizza. Reservations are not required.
X-ALT-DESC;FMTTYPE=text/html:<span style="font-size: medium\;"><span style="font-family: calibri\;">Gourmet Pizza on the Terrace * Chef Fabio Carella* Live Music * Enjoy an afternoon of fall colors\, a bonfire\, tours\, amazing wines and artisan pizza. Reservations are not required. </span></span><br />\n&nbsp\;
LOCATION:Adams County Winery 251 Peach Tree Rd * Orrtanna\, PA 17353
UID:e.1500.1009
SEQUENCE:3
DTSTAMP:20260422T220234Z
URL:https://business.mainstreethanover.org/events/details/gourmet-pizza-on-the-terrace-at-adams-county-winery-10-25-2015-1009
END:VEVENT

END:VCALENDAR
