BEGIN:VCALENDAR
VERSION:2.0
PRODID:-//ChamberMaster//Event Calendar 2.0//EN
METHOD:PUBLISH
X-PUBLISHED-TTL:P3D
REFRESH-INTERVAL:P3D
CALSCALE:GREGORIAN
BEGIN:VEVENT
DTSTART:20150613T140000Z
DTEND:20150614T000000Z
X-MICROSOFT-CDO-ALLDAYEVENT:FALSE
SUMMARY:Grand Opening Event at Diamonds & Designs
DESCRIPTION:Come celebrate with us at our Grand Opening Event. The event is from 10 am to 8 pm.  There will be select merchandise marked 40-60% off.  We will be doing some giveaways during the day along with a grand prize giveaway.  The event is one day only!
X-ALT-DESC;FMTTYPE=text/html:Come celebrate with us at our Grand Opening Event. The event is from 10 am to 8 pm. &nbsp\;There will be select merchandise marked 40-60% off. &nbsp\;We will be doing some giveaways during the day along with a grand prize giveaway. &nbsp\;The event is one day only!
LOCATION:Diamonds & Designs by Ashley Lauren\, 9 Carlisle St
UID:e.1500.927
SEQUENCE:3
DTSTAMP:20260423T054435Z
URL:https://business.mainstreethanover.org/events/details/grand-opening-event-at-diamonds-designs-06-13-2015-927
END:VEVENT

END:VCALENDAR
