BEGIN:VCALENDAR
VERSION:2.0
PRODID:-//ChamberMaster//Event Calendar 2.0//EN
METHOD:PUBLISH
X-PUBLISHED-TTL:P3D
REFRESH-INTERVAL:P3D
CALSCALE:GREGORIAN
BEGIN:VEVENT
DTSTART:20170513T130000Z
DTEND:20170513T140000Z
X-MICROSOFT-CDO-ALLDAYEVENT:FALSE
SUMMARY:Grand Opening & Ribbon Cutting at South Hanover YMCA
DESCRIPTION:Join the Hanover Area YMCA as we officially open our doors to the new South Hanover YMCA Sports and Wellness Complex on Saturday\, May 13\, 2017! Community Ribbon Cutting will start at 9:00 AM and the FREE event continues with demonstrations\, tours\, sports clinics for youth and adults\, a preview into the YMCAs accredited Early Learning Center programs and Kinder Class\, Experience Camp Hickory\, enjoy free food\, tents with activities\, live music and SO MUCH MORE!
X-ALT-DESC;FMTTYPE=text/html:&nbsp\;<br />\n<strong><span style="font-family:helvetica\,sans-serif\;"><span style="font-size:10.5pt\;">Join the Hanover Area YMCA as we officially open our doors to the new South Hanover YMCA Sports and Wellness Complex on Saturday\, May 13\, 2017! Community Ribbon Cutting will start at 9:00 AM and the FREE event continues with demonstrations\, tours\, sports clinics for youth and adults\, a preview into the YMCAs accredited Early Learning Center programs and Kinder Class\, Experience Camp Hickory\, enjoy free food\, tents with activities\, live music and SO MUCH MORE! </span></span></strong><br />\n&nbsp\;
LOCATION:South Hanover YMCA Sports and Wellness Complex 650 Fairview Drive.\, Hanover PA
UID:e.1500.2509
SEQUENCE:3
DTSTAMP:20260421T172046Z
URL:https://business.mainstreethanover.org/events/details/grand-opening-ribbon-cutting-at-south-hanover-ymca-2509
END:VEVENT

END:VCALENDAR
