BEGIN:VCALENDAR
VERSION:2.0
PRODID:-//ChamberMaster//Event Calendar 2.0//EN
METHOD:PUBLISH
X-PUBLISHED-TTL:P3D
REFRESH-INTERVAL:P3D
CALSCALE:GREGORIAN
BEGIN:VEVENT
DTSTART:20161024T160000Z
DTEND:20161203T190000Z
X-MICROSOFT-CDO-ALLDAYEVENT:FALSE
SUMMARY:Grocery Grab Fundraiser
DESCRIPTION:Grocery Grab.\n\n\n\nThe top winner gets a $500 grocery Gift Card. \n\n\n\n1. $250 Grocery Gift Card - Sponsored By A Bit of Country & Hanover Exchange Club\n\n2. $100 Grocery Gift Card - Sponsored By Hanover Exchange Club\n\n3. $100 Grocery Gift Card - Sponsored By Hanover VFW\n\n4. $100 Grocery Gift Card - Sponsored By Second Chances Auto Detailing\n\n5. $50 Grocery Gift Card - Sponsored By Bay City Restaurant & Seafood\n\n6. $50 Grocery Gift Card - Sponsored By Bay City Restaurant & Seafood\n\n7. $50 Grocery Gift Card - Sponsored By Bay City Restaurant & Seafood\n\n8. $50 Grocery Gift Card - Sponsored By Brusters Ice Cream\n\n9. $50 Grocery Gift Card - Sponsored By Dave's Tractor World\n\n10. $50 Grocery Gift Card - Sponsored By Dave's Tractor World\n\n11. $50 Grocery Gift Card - Sponsored By Dave's Tractor World\n\n12. $50 Grocery Gift Card - Sponsored By Dial-A-Temp\n\n13. $50 Grocery Gift Card - Sponsored By Dial-A-Temp\n\n14. $50 Grocery Gift Card - Sponsored By Hanover Door\n\n15. $50 Grocery Gift Card - Sponsored By McSherrystown Women of the Moose\n\n16. $50 Grocery Gift Card - Sponsored By Your Special Occasion Limousine\n\n17. $25 Grocery Gift Card - Sponsored By Hanover Markets\n\n18. $25 Grocery Gift Card - Sponsored By Hanover Markets\n\n19. $25 Grocery Gift Card - Sponsored By Hanover Markets\n\n20. $25 Grocery Gift Card - Sponsored By Hanover Markets\n\n\n\nTickets are $ 3.00 each / 2 for $5 / 4 for $10. Tickets go on sale mid September all the way through December 3rd when the drawing will take place at the Hanover Rhinos 5th Annual Santa Bowl for Toys for Tots Game . There could be other items given away that day as an extra bonus. Keep checking back.\n\n\n\nProceeds Benefits McSherrystown Lions Football\,Toys for Toys & Hanover Rhinos Football. SGC #1222
X-ALT-DESC;FMTTYPE=text/html:<span style="background-color:rgb(255\, 255\, 255)\; color:rgb(75\, 79\, 86)\; font-family:helvetica\,arial\,sans-serif\; font-size:14px">Grocery Grab.</span><br />\n<br />\n<span style="background-color:rgb(255\, 255\, 255)\; color:rgb(75\, 79\, 86)\; font-family:helvetica\,arial\,sans-serif\; font-size:14px">The top winner gets a $500 grocery Gift Card.&nbsp\;</span><br />\n<br />\n<span style="background-color:rgb(255\, 255\, 255)\; color:rgb(75\, 79\, 86)\; font-family:helvetica\,arial\,sans-serif\; font-size:14px">1. $250 Grocery Gift Card - Sponsored By A Bit of Country &amp\; Hanover Exchange Club</span><br />\n<span style="background-color:rgb(255\, 255\, 255)\; color:rgb(75\, 79\, 86)\; font-family:helvetica\,arial\,sans-serif\; font-size:14px">2. $100 Grocery Gift Card - Sponsored By Hanover Exchange Club</span><br />\n<span style="background-color:rgb(255\, 255\, 255)\; color:rgb(75\, 79\, 86)\; font-family:helvetica\,arial\,sans-serif\; font-size:14px">3. $100 Grocery Gift Card - Sponsored By Hanover VFW</span><br />\n<span style="background-color:rgb(255\, 255\, 255)\; color:rgb(75\, 79\, 86)\; font-family:helvetica\,arial\,sans-serif\; font-size:14px">4. $100 Grocery Gift Card - Sponsored By Second Chances Auto Detailing</span><br />\n<span style="background-color:rgb(255\, 255\, 255)\; color:rgb(75\, 79\, 86)\; font-family:helvetica\,arial\,sans-serif\; font-size:14px">5. $50 Grocery Gift Card - Sponsored By Bay City Restaurant &amp\; Seafood</span><br />\n<span style="background-color:rgb(255\, 255\, 255)\; color:rgb(75\, 79\, 86)\; font-family:helvetica\,arial\,sans-serif\; font-size:14px">6. $50 Grocery Gift Card - Sponsored By Bay City Restaurant &amp\; Seafood</span><br />\n<span style="background-color:rgb(255\, 255\, 255)\; color:rgb(75\, 79\, 86)\; font-family:helvetica\,arial\,sans-serif\; font-size:14px">7. $50 Grocery Gift Card - Sponsored By Bay City Restaurant &amp\; Seafood</span><br />\n<span style="background-color:rgb(255\, 255\, 255)\; color:rgb(75\, 79\, 86)\; font-family:helvetica\,arial\,sans-serif\; font-size:14px">8. $50 Grocery Gift Card - Sponsored By Brusters Ice Cream</span><br />\n<span style="background-color:rgb(255\, 255\, 255)\; color:rgb(75\, 79\, 86)\; font-family:helvetica\,arial\,sans-serif\; font-size:14px">9. $50 Grocery Gift Card - Sponsored By Dave&#39\;s Tractor World<br />\n10. $50 Grocery Gift Card - Sponsored By Dave&#39\;s Tractor World<br />\n11. $50 Grocery Gift Card - Sponsored By Dave&#39\;s Tractor World<br />\n12. $50 Grocery Gift Card - Sponsored By Dial-A-Temp<br />\n13. $50 Grocery Gift Card - Sponsored By Dial-A-Temp<br />\n14. $50 Grocery Gift Card - Sponsored By Hanover Door<br />\n15. $50 Grocery Gift Card - Sponsored By McSherrystown Women of the Moose<br />\n16. $50 Grocery Gift Card - Sponsored By Your Special Occasion Limousine<br />\n17. $25 Grocery Gift Card - Sponsored By Hanover Markets<br />\n18. $25 Grocery Gift Card - Sponsored By Hanover Markets<br />\n19. $25 Grocery Gift Card - Sponsored By Hanover Markets<br />\n20. $25 Grocery Gift Card - Sponsored By Hanover Markets<br />\n<br />\nTickets are $ 3.00 each / 2 for $5 / 4 for $10. Tickets go on sale mid September all the way through December 3rd when the drawing will take place at the Hanover Rhinos 5th Annual Santa Bowl for Toys for Tots Game . There could be other items given away that day as an extra bonus. Keep checking back.<br />\n<br />\nProceeds Benefits McSherrystown Lions Football\,Toys for Toys &amp\; Hanover Rhinos Football. SGC #1222</span>
LOCATION:
UID:e.1500.2263
SEQUENCE:3
DTSTAMP:20260422T003016Z
URL:https://business.mainstreethanover.org/events/details/grocery-grab-fundraiser-2263
END:VEVENT

END:VCALENDAR
