BEGIN:VCALENDAR
VERSION:2.0
PRODID:-//ChamberMaster//Event Calendar 2.0//EN
METHOD:PUBLISH
X-PUBLISHED-TTL:P3D
REFRESH-INTERVAL:P3D
CALSCALE:GREGORIAN
BEGIN:VEVENT
DTSTART:20161022T220000Z
DTEND:20161023T020000Z
X-MICROSOFT-CDO-ALLDAYEVENT:FALSE
SUMMARY:Guthrie Memorial Library's Bull & Oyster Roast
DESCRIPTION:Tickets $50 per person includes:\n\nPit Beef & Ham\, Raw & Fried Oysters\, Fried Chicken\, Italian Sausage w/peppers & onions\, Maryland Crab Soup\, Mashed Potatoes & Gravy\, Green Beans\, Cole Slaw\, Bread/Rolls\, Dessert\, Beer\, Soda & Water\n\n\n\nMust be 21 & older to attend Small Games of Chance available. Tickets available at the Adult Desk or by calling the library at 717-632-5183
X-ALT-DESC;FMTTYPE=text/html:Tickets $50 per person includes:<br />\nPit Beef &amp\; Ham\, Raw &amp\; Fried Oysters\, Fried Chicken\, Italian Sausage w/peppers &amp\; onions\, Maryland Crab Soup\, Mashed Potatoes &amp\; Gravy\, Green Beans\, Cole Slaw\, Bread/Rolls\, Dessert\, Beer\, Soda &amp\; Water<br />\n<br />\nMust be 21 &amp\; older to attend Small Games of Chance available.&nbsp\;Tickets available at the Adult Desk or by calling the library at 717-632-5183
LOCATION:2 Library Pl. Hanover\, PA 17331
UID:e.1500.1254
SEQUENCE:3
DTSTAMP:20260422T053250Z
URL:https://business.mainstreethanover.org/events/details/guthrie-memorial-library-s-bull-oyster-roast-1254
END:VEVENT

END:VCALENDAR
