BEGIN:VCALENDAR
VERSION:2.0
PRODID:-//ChamberMaster//Event Calendar 2.0//EN
METHOD:PUBLISH
X-PUBLISHED-TTL:P3D
REFRESH-INTERVAL:P3D
CALSCALE:GREGORIAN
BEGIN:VEVENT
DTSTART:20171013T123000Z
DTEND:20171013T183000Z
X-MICROSOFT-CDO-ALLDAYEVENT:FALSE
SUMMARY:HACC Community Education Day
DESCRIPTION:Expand your personal enrichment horizons on Community Education Day on Oct. 13\, 2017\, from 8:30 a.m. to 2:30 p.m. at HACC's Gettysburg Campus.  Participants can choose three educational sessions from among 15 topics that range from the origin of Friday the 13th\, World War II and Civil War history\, American idioms\, literature and movies\, exploring retirement choices and more. Sessions are presented in a short workshop format and led by HACC faculty or community presenters. The cost of $49 per person includes the choice of three class sessions\, morning refreshments and a bagged lunch. To view the schedule of sessions and register\, please see the attached registration flier\, visit hacc.edu/GettysburgCommunity or call the campus Welcome Center at 717-337-3855\, ext. 119903.
X-ALT-DESC;FMTTYPE=text/html:<span style="font-family:times new roman\,serif\;"><span style="font-size:12.0pt\;">Expand your personal enrichment horizons on <strong>Community Education Day on Oct. 13\, 2017\, from 8:30 a.m. to 2:30 p.m. at HACC&rsquo\;s </strong><a href="http://www.hacc.edu/Campuses/GettysburgCampus/index.cfm"><span style="color:windowtext\;">Gettysburg Campus</span></a><strong>.&nbsp\; </strong><span style="color:#262626\;">Participants can choose three educational sessions from among 15 topics that range from the origin of Friday the 13<sup>th</sup>\, World War II and Civil War history\, American idioms\, literature and movies\, exploring retirement choices and more. Sessions are presented in a short workshop format and led </span>by HACC faculty or community presenters<strong><span style="color:#262626\;">.</span></strong> The cost of $49 per person includes the choice of three class sessions\, morning refreshments <span style="letter-spacing:-.05pt\;">and </span>a bagged <span style="letter-spacing:-.05pt\;">lunch. </span>To view the schedule of sessions and register\, please see the attached registration flier\, visit <a href="http://www.hacc.edu/Campuses/GettysburgCampus/Gettysburg-Community-Events.cfm">hacc.edu/GettysburgCommunity</a></span> </span><span style="font-family:times new roman\,serif\;"><span style="font-size:12.0pt\;">or call the campus Welcome Center at 717-337-3855\, ext. 119903.</span></span><br />\n&nbsp\;<br />\n&nbsp\;
LOCATION:HACC Gettysburg Campus
UID:e.1500.3074
SEQUENCE:3
DTSTAMP:20260421T104727Z
URL:https://business.mainstreethanover.org/events/details/hacc-community-education-day-3074
END:VEVENT

END:VCALENDAR
