BEGIN:VCALENDAR
VERSION:2.0
PRODID:-//ChamberMaster//Event Calendar 2.0//EN
METHOD:PUBLISH
X-PUBLISHED-TTL:P3D
REFRESH-INTERVAL:P3D
CALSCALE:GREGORIAN
BEGIN:VEVENT
DTSTART:20161104T130000Z
DTEND:20161104T161500Z
X-MICROSOFT-CDO-ALLDAYEVENT:FALSE
SUMMARY:HACC's Community Education Connection
DESCRIPTION:For anyone looking to develop personal and professional skills or simply explore a topic of interest\, on Friday\, November 4 and 18 from 9:00 a.m. to 12:15 p.m. the Gettysburg Campus of HACC is offering a variety of community education classes covering history\, philosophy\, computer skills\, and culture.  A complete listing of class topics  and registration information can be found at www.hacc.edu/GettysburgCommunity.
X-ALT-DESC;FMTTYPE=text/html:<span style="font-family:times new roman\,serif\;"><span style="font-size:12.0pt\;">For anyone looking to develop personal and professional skills or simply explore a topic of interest\, on Friday\, November 4 and 18 from 9:00 a.m. to 12:15 p.m. the Gettysburg Campus of HACC is offering a variety of community education classes covering history\, philosophy\, computer skills\, and culture.&nbsp\; A complete listing of class topics &nbsp\;and registration information can be found at <a href="http://www.hacc.edu/GettysburgCommunity"><span style="color:windowtext\;">www.hacc.edu/GettysburgCommunity</span></a>. &nbsp\;</span></span>
LOCATION:HACC's Gettysburg Campus 731 Old Harrisburg Rd. Gettysburg\, PA 17325
UID:e.1500.2272
SEQUENCE:3
DTSTAMP:20260422T021534Z
URL:https://business.mainstreethanover.org/events/details/hacc-s-community-education-connection-2272
END:VEVENT

END:VCALENDAR
