BEGIN:VCALENDAR
VERSION:2.0
PRODID:-//ChamberMaster//Event Calendar 2.0//EN
METHOD:PUBLISH
X-PUBLISHED-TTL:P3D
REFRESH-INTERVAL:P3D
CALSCALE:GREGORIAN
BEGIN:VEVENT
DTSTART:20151031T180000Z
DTEND:20151031T210000Z
X-MICROSOFT-CDO-ALLDAYEVENT:FALSE
SUMMARY:Halloween at the Winery
DESCRIPTION:Family-friendly and pet  friendly event * Trick or Treat\, Costumes * DJ * Bonfire * pet costume parade at 3:00pm and kids Costume contest at 3:30pm. Free event.
X-ALT-DESC;FMTTYPE=text/html:<span style="font-size: medium\;"><span style="font-family: calibri\;">Family-friendly and pet &ndash\;friendly event * Trick or Treat\, Costumes * DJ * Bonfire * pet costume parade at 3:00pm and kids Costume contest at 3:30pm. Free event.</span></span><br />\n&nbsp\;
LOCATION:Adams County Winery 251 Peach Tree Rd * Orrtanna\, PA 17353
UID:e.1500.1010
SEQUENCE:3
DTSTAMP:20260422T214836Z
URL:https://business.mainstreethanover.org/events/details/halloween-at-the-winery-10-31-2015-1010
END:VEVENT

END:VCALENDAR
