BEGIN:VCALENDAR
VERSION:2.0
PRODID:-//ChamberMaster//Event Calendar 2.0//EN
METHOD:PUBLISH
X-PUBLISHED-TTL:P3D
REFRESH-INTERVAL:P3D
CALSCALE:GREGORIAN
BEGIN:VEVENT
DTSTART:20171020T220000Z
DTEND:20171021T020000Z
X-MICROSOFT-CDO-ALLDAYEVENT:FALSE
SUMMARY:Halloween in the Park
DESCRIPTION:This is a family friendly Halloween event with trick or treating in the incredibly decorated campground\, hayrides\, provided by FOCSP and many local businesses and organization. There is also a DJ\, food vendors with a variety of menus\, chain saw artist\, blacksmithing\, and the park's nature tent.
X-ALT-DESC;FMTTYPE=text/html:This is a family friendly Halloween event with trick or treating in the incredibly decorated campground\, hayrides\, provided by FOCSP and many local businesses and organization. There is also a DJ\, food vendors with a variety of menus\, chain saw artist\, blacksmithing\, and the park&#39\;s nature tent.
LOCATION:Codorus State Park\, Rt. 216\, Blooming Grove Rd.\, Hanover\, PA Entrance located at Swimming Pool road.
UID:e.1500.3071
SEQUENCE:3
DTSTAMP:20260421T091246Z
URL:https://business.mainstreethanover.org/events/details/halloween-in-the-park-10-20-2017-3071
END:VEVENT

END:VCALENDAR
