BEGIN:VCALENDAR
VERSION:2.0
PRODID:-//ChamberMaster//Event Calendar 2.0//EN
METHOD:PUBLISH
X-PUBLISHED-TTL:P3D
REFRESH-INTERVAL:P3D
CALSCALE:GREGORIAN
BEGIN:VEVENT
DTSTART:20151029T233000Z
DTEND:20151030T020000Z
X-MICROSOFT-CDO-ALLDAYEVENT:FALSE
SUMMARY:Halloween Parade
DESCRIPTION:The Hanover Halloween Parade
X-ALT-DESC;FMTTYPE=text/html:<span style="font-family: &quot\;Times New Roman&quot\;\,&quot\;serif&quot\;\; font-size: 12pt\; mso-fareast-font-family: Calibri\; mso-fareast-theme-font: minor-latin\; mso-ansi-language: EN-US\; mso-fareast-language: EN-US\; mso-bidi-language: AR-SA\;"><font color="#000000">The Hanover Halloween Parade </font></span>
LOCATION:Downtown Hanover
UID:e.1500.990
SEQUENCE:3
DTSTAMP:20260422T215229Z
URL:https://business.mainstreethanover.org/events/details/halloween-parade-10-29-2015-990
END:VEVENT

END:VCALENDAR
