BEGIN:VCALENDAR
VERSION:2.0
PRODID:-//ChamberMaster//Event Calendar 2.0//EN
METHOD:PUBLISH
X-PUBLISHED-TTL:P3D
REFRESH-INTERVAL:P3D
CALSCALE:GREGORIAN
BEGIN:VEVENT
DTSTART:20171021T150000Z
DTEND:20171021T170000Z
X-MICROSOFT-CDO-ALLDAYEVENT:FALSE
SUMMARY:Halloween Pet Parade
DESCRIPTION:Bring your pets in costume\, (but not necessary) out for the Pet Parade around the campground! Donations are collected from spectators in campground\, or family and friends\, to benefit Animal Rescue\, Inc. Top collectors win prizes! Also\, treats for the pets! Sponsored by the Friends of Codorus State Park.
X-ALT-DESC;FMTTYPE=text/html:Bring your pets in costume\, (but not necessary) out for the Pet Parade around the campground! Donations are collected from spectators in campground\, or family and friends\, to benefit Animal Rescue\, Inc. Top collectors win prizes! Also\, treats for the pets! Sponsored by the Friends of Codorus State Park.
LOCATION:Codorus State Park\, Rt. 216\, Blooming Grove Rd.\, Hanover\, PA Entrance located at Swimming Pool road. Registration is at Pavilion 1 on Swimming Pool Rd.
UID:e.1500.3073
SEQUENCE:3
DTSTAMP:20260421T091109Z
URL:https://business.mainstreethanover.org/events/details/halloween-pet-parade-3073
END:VEVENT

END:VCALENDAR
