BEGIN:VCALENDAR
VERSION:2.0
PRODID:-//ChamberMaster//Event Calendar 2.0//EN
METHOD:PUBLISH
X-PUBLISHED-TTL:P3D
REFRESH-INTERVAL:P3D
CALSCALE:GREGORIAN
BEGIN:VEVENT
DTSTART:20151031T220000Z
DTEND:20151101T010000Z
X-MICROSOFT-CDO-ALLDAYEVENT:FALSE
SUMMARY:Hallowine & Swine Party
DESCRIPTION:
X-ALT-DESC;FMTTYPE=text/html:
LOCATION:Hallowine & Swine Party * 6pm to 9pm * Adult only * VIP tickets are $25.00 and include pig roast meal and reserved seating. General admission tickets are $20.00 and include meal but does not guarantee reserved seating in the pavilion. This is going to be a great evening with a DJ\, great wines\, and hallowing good times!
UID:e.1500.1011
SEQUENCE:3
DTSTAMP:20260422T215353Z
URL:https://business.mainstreethanover.org/events/details/hallowine-swine-party-10-31-2015-1011
END:VEVENT

END:VCALENDAR
