BEGIN:VCALENDAR
VERSION:2.0
PRODID:-//ChamberMaster//Event Calendar 2.0//EN
METHOD:PUBLISH
X-PUBLISHED-TTL:P3D
REFRESH-INTERVAL:P3D
CALSCALE:GREGORIAN
BEGIN:VEVENT
DTSTART:20181103T140000Z
DTEND:20181103T160000Z
X-MICROSOFT-CDO-ALLDAYEVENT:FALSE
SUMMARY:Hanover Area Community Meal Packing Event
DESCRIPTION:Rise Against Hunger is an international hunger releif organization that distrubutes food and life-changing aid to the world's most vulnerable. Their meal packing program was created to give dedicated invididuals and organziations- from businesses to civic clubs- the opportunity to participate in a hands-on international hunger relief program and to become educated\, engaged advocates for the world's hungry. The event involves dehydated meals comprimsed of rice\, soy\, vegetables\, and 23 essential vitamins and minerals. \n\n \n\nIt's hands on. Its fun. It's satisfying. It's meaningful. There truly is nothing like it.
X-ALT-DESC;FMTTYPE=text/html:<p>Rise Against Hunger is an international hunger releif organization that distrubutes food and life-changing aid to the world&#39\;s most vulnerable. Their meal packing program was created to give dedicated invididuals and organziations- from businesses to civic clubs- the opportunity to participate in a hands-on international hunger relief program and to become educated\, engaged advocates for the world&#39\;s hungry. The event involves dehydated meals comprimsed of rice\, soy\, vegetables\, and 23 essential vitamins and minerals.&nbsp\;<br />\n&nbsp\;</p>\n\n<p>It&#39\;s hands on. Its fun. It&#39\;s satisfying. It&#39\;s meaningful. There truly is nothing like it.</p>\n
LOCATION:Fellowship Hall St. Matthew Lutheran Church 30 West Chestnut St. Hanover PA\, 17331
UID:e.1500.4278
SEQUENCE:3
DTSTAMP:20260420T132533Z
URL:https://business.mainstreethanover.org/events/details/hanover-area-community-meal-packing-event-4278
END:VEVENT

END:VCALENDAR
