BEGIN:VCALENDAR
VERSION:2.0
PRODID:-//ChamberMaster//Event Calendar 2.0//EN
METHOD:PUBLISH
X-PUBLISHED-TTL:P3D
REFRESH-INTERVAL:P3D
CALSCALE:GREGORIAN
BEGIN:VEVENT
DTSTART;VALUE=DATE:20180913
DTEND;VALUE=DATE:20180914
TRANSP:TRANSPARENT
X-MICROSOFT-CDO-ALLDAYEVENT:TRUE
SUMMARY:Hanover Area Historical Society bus trip
DESCRIPTION:Bus trip to the Pitcairn Estate\, the Bryn Athyn Cathedral & Glencairn Museum.
X-ALT-DESC;FMTTYPE=text/html:Bus trip to the Pitcairn Estate\, the Bryn Athyn Cathedral &amp\; Glencairn Museum.
LOCATION:Bryn Athyn\, PA
UID:e.1500.4263
SEQUENCE:3
DTSTAMP:20260420T150729Z
URL:https://business.mainstreethanover.org/events/details/hanover-area-historical-society-bus-trip-4263
END:VEVENT

END:VCALENDAR
