BEGIN:VCALENDAR
VERSION:2.0
PRODID:-//ChamberMaster//Event Calendar 2.0//EN
METHOD:PUBLISH
X-PUBLISHED-TTL:P3D
REFRESH-INTERVAL:P3D
CALSCALE:GREGORIAN
BEGIN:VEVENT
DTSTART:20150507T213000Z
DTEND:20150507T233000Z
X-MICROSOFT-CDO-ALLDAYEVENT:FALSE
SUMMARY:Hanover Area Young Professional-5/7/2015 Happy Hour at Bay City
DESCRIPTION:Come Join us at Bay City for Happy Hour!
X-ALT-DESC;FMTTYPE=text/html:<strong>Come Join us at Bay City for Happy Hour! </strong>
LOCATION:110 Eisenhower Drive Hanover\, PA 17331
UID:e.1500.896
SEQUENCE:3
DTSTAMP:20260423T054727Z
URL:https://business.mainstreethanover.org/events/details/hanover-area-young-professional-5-7-2015-happy-hour-at-bay-city-05-07-2015-896
END:VEVENT

END:VCALENDAR
