BEGIN:VCALENDAR
VERSION:2.0
PRODID:-//ChamberMaster//Event Calendar 2.0//EN
METHOD:PUBLISH
X-PUBLISHED-TTL:P3D
REFRESH-INTERVAL:P3D
CALSCALE:GREGORIAN
BEGIN:VEVENT
DTSTART:20160915T210000Z
DTEND:20160915T230000Z
X-MICROSOFT-CDO-ALLDAYEVENT:FALSE
SUMMARY:Hanover Area Young Professionals (HAYP) Annual Rooftop Event
DESCRIPTION:We invite you to attend our yearly kickoff event on the rooftop of the Guthrie Memorial Library! Event Details TBD - but you can expect food\, drink and professional development!
X-ALT-DESC;FMTTYPE=text/html:We invite you to attend our yearly kickoff event on the rooftop of the Guthrie Memorial Library! Event Details TBD - but you can expect food\, drink and professional development!
LOCATION:Guthrie Memorial Library
UID:e.1500.1122
SEQUENCE:3
DTSTAMP:20260422T053455Z
URL:https://business.mainstreethanover.org/events/details/hanover-area-young-professionals-hayp-annual-rooftop-event-09-22-2016-1122
END:VEVENT

END:VCALENDAR
