BEGIN:VCALENDAR
VERSION:2.0
PRODID:-//ChamberMaster//Event Calendar 2.0//EN
METHOD:PUBLISH
X-PUBLISHED-TTL:P3D
REFRESH-INTERVAL:P3D
CALSCALE:GREGORIAN
BEGIN:VEVENT
DTSTART:20160120T223000Z
DTEND:20160121T003000Z
X-MICROSOFT-CDO-ALLDAYEVENT:FALSE
SUMMARY:Hanover Area Young Professionals (HAYP) Happy Hour
DESCRIPTION:Join us for a Happy Hour and network with other young professionals in the area!  This event is free for members and non-members\; guests are responsible for their own food and drinks.
X-ALT-DESC;FMTTYPE=text/html:<span style="color: rgb(0\, 0\, 0)\; font-family: tahoma\, verdana\, sans-serif\; font-size: 14.4px\; line-height: normal\;">Join us for a Happy Hour and network with other young professionals in the area! &nbsp\;This event is free for members and non-members\; guests are responsible for their own food and drinks. &nbsp\;&nbsp\;</span>
LOCATION:Staub's Landing\, 612 Frederick St.\, Hanover
UID:e.1500.1047
SEQUENCE:3
DTSTAMP:20260422T172051Z
URL:https://business.mainstreethanover.org/events/details/hanover-area-young-professionals-hayp-happy-hour-01-20-2016-1047
END:VEVENT

END:VCALENDAR
