BEGIN:VCALENDAR
VERSION:2.0
PRODID:-//ChamberMaster//Event Calendar 2.0//EN
METHOD:PUBLISH
X-PUBLISHED-TTL:P3D
REFRESH-INTERVAL:P3D
CALSCALE:GREGORIAN
BEGIN:VEVENT
DTSTART:20181108T220000Z
DTEND:20181109T010000Z
X-MICROSOFT-CDO-ALLDAYEVENT:FALSE
SUMMARY:Hanover Chamber Business Awards 2018
DESCRIPTION:The Business Awards Ceremony\, presented by APPI Energy and DOCEO Office Solutions\, recognizes the recipients of the Small Business\, Entrepreneur\, Positive Action and Educators of the Year awards. We will also honor milestone member anniversaries\, volunteers and Chamber ambassadors.\n\n\n\nJoin us to celebrate fellow Chamber members\, socialize\, and enjoy a special evening out!\n\n\n\nSponsorships are available\, if interested please contact Haley Briggs!\n\n\n\nPlease find nomination forms for the following awards:\n\nSmall Business of the Year\, presented by Penn National Insurance\n\nEntrepreneur of the Year\, presented by Northwest\n\nPositive Action Award\, presented by WellSpan Health\n\n\n\n\n\nSchedule
X-ALT-DESC;FMTTYPE=text/html:<span style="line-height: 18.9091px\;">The Business Awards Ceremony\, presented by APPI Energy and DOCEO Office Solutions\, recognizes the recipients of the Small Business\, Entrepreneur\, Positive Action and Educators of the Year awards. We will also honor milestone member anniversaries\, volunteers and Chamber ambassadors.<br />\n<br />\nJoin us to celebrate fellow Chamber members\, socialize\, and enjoy a special evening out!</span><br style="line-height: 20.8px\;" />\n<br style="line-height: 18.9091px\;" />\nSponsorships are available\, if interested please contact <a href="mailto:hbriggs@hanoverchamber.com">Haley Briggs</a>!<br style="line-height: 18.9091px\;" />\n<br />\n<strong>Please find nomination forms for the following awards:</strong><br />\n<a href="http://hanoverchamber.com/wp-content/uploads/2015/07/Small-Biz-Nomination-Form-2017.pdf">Small Business of the Year</a>\, <em>presented by Penn National Insurance</em><br />\n<a href="http://hanoverchamber.com/wp-content/uploads/2015/07/Entrepreneur-Nomination-Form-2017.pdf">Entrepreneur of the Year</a>\,&nbsp\;<em>presented by Northwest</em><br />\n<a href="http://hanoverchamber.com/wp-content/uploads/2015/07/Positive-Action-Nomination-Form-2017.pdf">Positive Action Award</a>\,&nbsp\;<em>presented by WellSpan Health</em><br />\n<br />\n<br />\n<button id="tw_schedule_btn" style="padding: 4px 6px\; position: absolute\; left: 141px\; top: 840px\; background-image: linear-gradient(rgb(255\, 255\, 255)\, rgb(240\, 240\, 240))\; border: 1px solid rgb(204\, 204\, 204)\; color: rgb(95\, 95\, 95)\; cursor: pointer\; font-weight: bold\; text-shadow: rgb(255\, 255\, 255) 0px 1px\; white-space: nowrap\; border-top-left-radius: 3px\; border-top-right-radius: 3px\; border-bottom-right-radius: 3px\; border-bottom-left-radius: 3px\; font-size: 11px\; z-index: 8675309\; display: none\; background-position: initial initial\; background-repeat: initial initial\;"><span>Schedule</span></button>
LOCATION:Bay City Restaurant 110 Eisenhower Drive\, HanoverSchedule
UID:e.1500.4274
SEQUENCE:3
DTSTAMP:20260420T115146Z
URL:https://business.mainstreethanover.org/events/details/hanover-chamber-business-awards-2018-4274
END:VEVENT

END:VCALENDAR
