BEGIN:VCALENDAR
VERSION:2.0
PRODID:-//ChamberMaster//Event Calendar 2.0//EN
METHOD:PUBLISH
X-PUBLISHED-TTL:P3D
REFRESH-INTERVAL:P3D
CALSCALE:GREGORIAN
BEGIN:VEVENT
DTSTART:20160602T150000Z
DTEND:20160602T223000Z
X-MICROSOFT-CDO-ALLDAYEVENT:FALSE
SUMMARY:Hanover Chamber Golf Outing 06/02/16
DESCRIPTION:JOIN US FOR OUR 47th ANNUAL GOLF OUTING AT THE HANOVER COUNTRY CLUB!  More than 120 business men and women enjoy a great day of golf\, networking and food.  Outing is held rain or shine!
X-ALT-DESC;FMTTYPE=text/html:<span style="color:#008000\;"><strong><em>JOIN US FOR OUR 47th ANNUAL GOLF OUTING AT THE HANOVER COUNTRY CLUB! &nbsp\;More than 120 business men and women enjoy a great day of golf\, networking and food. &nbsp\;Outing is held rain or shine!</em></strong></span>
LOCATION:Hanover Country Club 200 East Water St. Abbottstown\, PA 17301
UID:e.1500.1090
SEQUENCE:3
DTSTAMP:20260422T102153Z
URL:https://business.mainstreethanover.org/events/details/hanover-chamber-golf-outing-06-02-16-06-02-2016-1090
END:VEVENT

END:VCALENDAR
