BEGIN:VCALENDAR
VERSION:2.0
PRODID:-//ChamberMaster//Event Calendar 2.0//EN
METHOD:PUBLISH
X-PUBLISHED-TTL:P3D
REFRESH-INTERVAL:P3D
CALSCALE:GREGORIAN
BEGIN:VEVENT
DTSTART:20160728T213000Z
DTEND:20160729T000000Z
X-MICROSOFT-CDO-ALLDAYEVENT:FALSE
SUMMARY:Hanover Chamber Night at The Revs
DESCRIPTION:Hanover Chamber Night at the Revolution!
X-ALT-DESC;FMTTYPE=text/html:Hanover Chamber Night at the Revolution!<br />\n&nbsp\;
LOCATION:York Revolution Vs. Lancaster Barnstormers PeoplesBank Park Gates open at 5:30 pm: game begins at 6:30 pm
UID:e.1500.1114
SEQUENCE:3
DTSTAMP:20260422T082932Z
URL:https://business.mainstreethanover.org/events/details/hanover-chamber-night-at-the-revs-07-28-2016-1114
END:VEVENT

END:VCALENDAR
