BEGIN:VCALENDAR
VERSION:2.0
PRODID:-//ChamberMaster//Event Calendar 2.0//EN
METHOD:PUBLISH
X-PUBLISHED-TTL:P3D
REFRESH-INTERVAL:P3D
CALSCALE:GREGORIAN
BEGIN:VEVENT
DTSTART:20180902T150000Z
DTEND:20180902T210000Z
X-MICROSOFT-CDO-ALLDAYEVENT:FALSE
SUMMARY:Hanover Chili Cook Off
DESCRIPTION:Since 1995\, The Hanover Chili Cook Off has become a staple for family entertainment\, chili tasting and fundraising for local nonprofit organizations\, all built around the PA State Chili Cooking Championships. The day's events include three local bands\, a magician\, a juggler\, a face painter and many\, MANY varieties of chili\, along with many supporting vendors. Not to mention Good food and beverage concessions too! Come out and help us exceed the $65\,000 raised for local nonprofits last year!
X-ALT-DESC;FMTTYPE=text/html:Since 1995\, The Hanover Chili Cook Off has become a staple for family entertainment\, chili tasting and fundraising for local nonprofit organizations\, all built around the PA State Chili Cooking Championships. The day&rsquo\;s events include three local bands\, a magician\, a juggler\, a face painter and many\, MANY varieties of chili\, along with many supporting vendors. Not to mention Good food and beverage concessions too! Come out and help us exceed the $65\,000 raised for local nonprofits last year!
LOCATION:Good Field N. Forney Ave. Hanover\, PA
UID:e.1500.3125
SEQUENCE:3
DTSTAMP:20260420T150349Z
URL:https://business.mainstreethanover.org/events/details/hanover-chili-cook-off-3125
END:VEVENT

END:VCALENDAR
