BEGIN:VCALENDAR
VERSION:2.0
PRODID:-//ChamberMaster//Event Calendar 2.0//EN
METHOD:PUBLISH
X-PUBLISHED-TTL:P3D
REFRESH-INTERVAL:P3D
CALSCALE:GREGORIAN
BEGIN:VEVENT
DTSTART:20161026T210000Z
DTEND:20161026T230000Z
X-MICROSOFT-CDO-ALLDAYEVENT:FALSE
SUMMARY:Hanover Door Mixer
DESCRIPTION:Hanover Door will be hosting this mixer in New Oxford PA. \n\nThis will be a chance to network and socialize with business professional from the area.
X-ALT-DESC;FMTTYPE=text/html:Hanover Door will be hosting this mixer in New Oxford PA.&nbsp\;<br />\nThis will be a chance to network and socialize with business professional from the area.&nbsp\;
LOCATION:Hanover Door 218 W Golden Ln. New Oxford\, PA 17350
UID:e.1500.1227
SEQUENCE:3
DTSTAMP:20260422T035751Z
URL:https://business.mainstreethanover.org/events/details/hanover-door-mixer-1227
END:VEVENT

END:VCALENDAR
