BEGIN:VCALENDAR
VERSION:2.0
PRODID:-//ChamberMaster//Event Calendar 2.0//EN
METHOD:PUBLISH
X-PUBLISHED-TTL:P3D
REFRESH-INTERVAL:P3D
CALSCALE:GREGORIAN
BEGIN:VEVENT
DTSTART:20180728T120000Z
DTEND:20180728T200000Z
X-MICROSOFT-CDO-ALLDAYEVENT:FALSE
SUMMARY:Hanover Dutch Festival 2018
DESCRIPTION:Handmade craft/food festival
X-ALT-DESC;FMTTYPE=text/html:Handmade craft/food festival&nbsp\;&nbsp\;&nbsp\;&nbsp\;
LOCATION:Downtown Hanover\, Pa
UID:e.1500.4174
SEQUENCE:3
DTSTAMP:20260420T202529Z
URL:https://business.mainstreethanover.org/events/details/hanover-dutch-festival-2018-4174
END:VEVENT

END:VCALENDAR
