BEGIN:VCALENDAR
VERSION:2.0
PRODID:-//ChamberMaster//Event Calendar 2.0//EN
METHOD:PUBLISH
X-PUBLISHED-TTL:P3D
REFRESH-INTERVAL:P3D
CALSCALE:GREGORIAN
BEGIN:VEVENT
DTSTART:20151006T230000Z
DTEND:20151007T010000Z
X-MICROSOFT-CDO-ALLDAYEVENT:FALSE
SUMMARY:Hanover Elks Lodge 763 invites you to a Wine and Cheese Open House
DESCRIPTION:Hanover Elks Lodge 763 invites you to a Wine and Cheese Open House \n\nThe Membership Committee would like to welcome you and your guest to introduce you to our lodge and facilities.\n\nPlease contact Charles White at 717-630-2758 or cwhite71@comcast.net or the lodge secretary at lodgesecretary@comcast.net.
X-ALT-DESC;FMTTYPE=text/html:<span style="font-family: arial narrow\,sans-serif\;"><span style="color: rgb(31\, 73\, 125)\;"><span style="font-size: medium\;">Hanover Elks Lodge 763 invites you to a Wine and Cheese Open House </span></span></span><br />\n<span style="font-family: arial narrow\,sans-serif\;"><span style="color: rgb(31\, 73\, 125)\;"><span style="font-size: medium\;">The Membership Committee would like to welcome you and your guest to introduce you to our lodge and facilities.</span></span></span><br />\n<span style="font-family: arial narrow\,sans-serif\;"><span style="color: rgb(31\, 73\, 125)\;"><span style="font-size: medium\;">Please contact Charles White at 717-630-2758 or </span><a href="mailto:cwhite71@comcast.net"><span style="font-size: medium\;"><span style="color: rgb(0\, 0\, 255)\;">cwhite71@comcast.net</span></span></a><span style="font-size: medium\;"> or the lodge secretary at </span><a href="mailto:lodgesecretary@comcast.net"><span style="font-size: medium\;"><span style="color: rgb(0\, 0\, 255)\;">lodgesecretary@comcast.net</span></span></a><span style="font-size: medium\;">.</span></span></span><br />\n&nbsp\;
LOCATION:47 North Forney Avenue\, Hanover
UID:e.1500.961
SEQUENCE:3
DTSTAMP:20260422T220204Z
URL:https://business.mainstreethanover.org/events/details/hanover-elks-lodge-763-invites-you-to-a-wine-and-cheese-open-house-10-06-2015-961
END:VEVENT

END:VCALENDAR
