BEGIN:VCALENDAR
VERSION:2.0
PRODID:-//ChamberMaster//Event Calendar 2.0//EN
METHOD:PUBLISH
X-PUBLISHED-TTL:P3D
REFRESH-INTERVAL:P3D
CALSCALE:GREGORIAN
BEGIN:VEVENT
DTSTART:20181025T233000Z
DTEND:20181026T020000Z
X-MICROSOFT-CDO-ALLDAYEVENT:FALSE
SUMMARY:Hanover Halloween Parade - October 25th\, 2018
DESCRIPTION:The 77th Hanover Halloween Parade
X-ALT-DESC;FMTTYPE=text/html:The 77th Hanover Halloween Parade
LOCATION:Starts at the intersection of Baltimore St and John St in Hanover\, PA
UID:e.1500.4321
SEQUENCE:3
DTSTAMP:20260420T132341Z
URL:https://business.mainstreethanover.org/events/details/hanover-halloween-parade-october-25th-2018-4321
END:VEVENT

END:VCALENDAR
