BEGIN:VCALENDAR
VERSION:2.0
PRODID:-//ChamberMaster//Event Calendar 2.0//EN
METHOD:PUBLISH
X-PUBLISHED-TTL:P3D
REFRESH-INTERVAL:P3D
CALSCALE:GREGORIAN
BEGIN:VEVENT
DTSTART;VALUE=DATE:20181026
DTEND;VALUE=DATE:20181027
TRANSP:TRANSPARENT
X-MICROSOFT-CDO-ALLDAYEVENT:TRUE
SUMMARY:Hanover Historical Society bus trip
DESCRIPTION:Visit Homewood Museum & lunch at The Inn at the Colonnade.
X-ALT-DESC;FMTTYPE=text/html:Visit Homewood Museum &amp\; lunch at The Inn at the Colonnade.
LOCATION:Baltimore\, MD
UID:e.1500.4264
SEQUENCE:3
DTSTAMP:20260420T132544Z
URL:https://business.mainstreethanover.org/events/details/hanover-historical-society-bus-trip-4264
END:VEVENT

END:VCALENDAR
