BEGIN:VCALENDAR
VERSION:2.0
PRODID:-//ChamberMaster//Event Calendar 2.0//EN
METHOD:PUBLISH
X-PUBLISHED-TTL:P3D
REFRESH-INTERVAL:P3D
CALSCALE:GREGORIAN
BEGIN:VEVENT
DTSTART:20161028T200000Z
DTEND:20161028T230000Z
X-MICROSOFT-CDO-ALLDAYEVENT:FALSE
SUMMARY:Hanover Honda/ Hanover Hyunkdai Trunk or Treat Event
DESCRIPTION:Hanover Honda & Hyundai is holdling their 4th annual Trunk or Treat Night.\n\nThis event will take placea t Hanover Honda & Hanover Hyundai on Friday October 28th from 4-7 p.m. If you like to be part of this by donating candy\, prizes\, etc. let us know. If you wanted\, you can decorate a car and bring a table as well to advertise your business.\n\n\n\nThis is a FREE event for the kids! There will be snacks\, drink\,s and tons of candy to give away.\n\n\n\nDonations can be dropped off at Hanover Honda to Jamie soistman.
X-ALT-DESC;FMTTYPE=text/html:Hanover Honda &amp\; Hyundai is holdling their 4th annual Trunk or Treat Night.<br />\nThis event will take placea t Hanover Honda &amp\; Hanover Hyundai on Friday October 28th from 4-7 p.m. If you like to be part of this by donating candy\, prizes\, etc. let us know. If you wanted\, you can decorate a car and bring a table as well to advertise your business.<br />\n<br />\nThis is a FREE event for the kids!&nbsp\;There will be snacks\, drink\,s and tons of candy to give away.<br />\n<br />\nDonations can be dropped off at Hanover Honda to Jamie soistman.&nbsp\;
LOCATION:Hanover Honda 1226 Carlisle St. Hanover\, PA 17331
UID:e.1500.1247
SEQUENCE:3
DTSTAMP:20260422T040119Z
URL:https://business.mainstreethanover.org/events/details/hanover-honda-hanover-hyunkdai-trunk-or-treat-event-1247
END:VEVENT

END:VCALENDAR
