BEGIN:VCALENDAR
VERSION:2.0
PRODID:-//ChamberMaster//Event Calendar 2.0//EN
METHOD:PUBLISH
X-PUBLISHED-TTL:P3D
REFRESH-INTERVAL:P3D
CALSCALE:GREGORIAN
BEGIN:VEVENT
DTSTART:20151210T210000Z
DTEND:20151211T003000Z
X-MICROSOFT-CDO-ALLDAYEVENT:FALSE
SUMMARY:Hanover Hospital: open house for new Heart & Vascular Suite
DESCRIPTION:Hanover Hospital will be holding an open house for their new Heart & Vascular Suite.\n\nPlease feel free to bring friends or family members to see the newly renovated suite.
X-ALT-DESC;FMTTYPE=text/html:<span style="font-family:times new roman\,serif\;"><span style="font-size:12.0pt\;">Hanover Hospital will be holding an open house for their new Heart &amp\; Vascular Suite.</span></span><br />\nPlease feel free to bring friends or family members to see the newly renovated suite.<br />\n<br />\n&nbsp\;
LOCATION:Hanover Hospital - 2nd floor
UID:e.1500.1023
SEQUENCE:3
DTSTAMP:20260422T185351Z
URL:https://business.mainstreethanover.org/events/details/hanover-hospital-open-house-for-new-heart-vascular-suite-12-10-2015-1023
END:VEVENT

END:VCALENDAR
