BEGIN:VCALENDAR
VERSION:2.0
PRODID:-//ChamberMaster//Event Calendar 2.0//EN
METHOD:PUBLISH
X-PUBLISHED-TTL:P3D
REFRESH-INTERVAL:P3D
CALSCALE:GREGORIAN
BEGIN:VEVENT
DTSTART:20151222T003000Z
DTEND:20151222T020000Z
X-MICROSOFT-CDO-ALLDAYEVENT:FALSE
SUMMARY:Hanover Hospital Presents a Free Holiday Concert
DESCRIPTION:Join Us as we present A Merry Li'l Christmas with Li'l bit of Blue\, a 6 piece ensemble of Blue Moon Big Band Featured vocalist\, Teresa Leonard
X-ALT-DESC;FMTTYPE=text/html:Join Us as we present A Merry Li&#39\;l Christmas with Li&#39\;l bit of Blue\, a 6 piece ensemble of Blue Moon Big Band Featured vocalist\, Teresa Leonard&nbsp\;
LOCATION:Eichelberger Performing Arts Center\, 195 Stock St\, Hanover\, Pa 17331
UID:e.1500.1031
SEQUENCE:3
DTSTAMP:20260422T185359Z
URL:https://business.mainstreethanover.org/events/details/hanover-hospital-presents-a-free-holiday-concert-12-21-2015-1031
END:VEVENT

END:VCALENDAR
