BEGIN:VCALENDAR
VERSION:2.0
PRODID:-//ChamberMaster//Event Calendar 2.0//EN
METHOD:PUBLISH
X-PUBLISHED-TTL:P3D
REFRESH-INTERVAL:P3D
CALSCALE:GREGORIAN
BEGIN:VEVENT
DTSTART:20161116T234500Z
DTEND:20161117T013000Z
X-MICROSOFT-CDO-ALLDAYEVENT:FALSE
SUMMARY:Hanover Public School District- Open House
DESCRIPTION:Come visit Hanover Public School Districts STEAM Academy\, including Virtual Reality Areas\, Engineering\, Robotics\, Art and Recording Studios\, plus tour our ILC. Welding Lab and Foundry.\n\n\n\nLight refreshments will be served.
X-ALT-DESC;FMTTYPE=text/html:Come visit Hanover Public School Districts STEAM Academy\, including Virtual Reality Areas\, Engineering\, Robotics\, Art and Recording Studios\, plus tour our ILC. Welding Lab and Foundry.<br />\n<br />\nLight refreshments will be served.&nbsp\;<br />\n&nbsp\;
LOCATION:Hanover High School 401 Moul Avenue Hanover\, PA 17331
UID:e.1500.2280
SEQUENCE:3
DTSTAMP:20260422T021533Z
URL:https://business.mainstreethanover.org/events/details/hanover-public-school-district-open-house-2280
END:VEVENT

END:VCALENDAR
