BEGIN:VCALENDAR
VERSION:2.0
PRODID:-//ChamberMaster//Event Calendar 2.0//EN
METHOD:PUBLISH
X-PUBLISHED-TTL:P3D
REFRESH-INTERVAL:P3D
CALSCALE:GREGORIAN
BEGIN:VEVENT
DTSTART;VALUE=DATE:20170914
DTEND;VALUE=DATE:20170915
TRANSP:TRANSPARENT
X-MICROSOFT-CDO-ALLDAYEVENT:TRUE
SUMMARY:Hanover Sam's Club Grand Opening
DESCRIPTION:Sam's Club Grand Opening. Members will enjoy services such as a full pharmacy\, Club Pickup and a fresh sushi bar. The club will also offer the convenience of Scan & Go shopping\, allowing members to bypass the checkout line and pay from anywhere in the club.\n\n\n\nThe fuel station is set to open Tuesday\, Aug. 29 at 6 a.m.
X-ALT-DESC;FMTTYPE=text/html:Sam&#39\;s Club Grand Opening. Members will enjoy services such as a full pharmacy\, Club Pickup and a fresh sushi bar. The club will also offer the convenience of Scan &amp\; Go shopping\, allowing members to bypass the checkout line and pay from anywhere in the club.<br />\n<br />\nThe fuel station is set to open Tuesday\, Aug. 29 at 6 a.m.&nbsp\;<br />\n&nbsp\;
LOCATION:261 Wilson Ave. Hanover\, PA 17331
UID:e.1500.3015
SEQUENCE:3
DTSTAMP:20260421T122603Z
URL:https://business.mainstreethanover.org/events/details/hanover-sam-s-club-grand-opening-3015
END:VEVENT

END:VCALENDAR
